BEGIN:VCALENDAR
VERSION:2.0
PRODID:icalendar-ruby
CALSCALE:GREGORIAN
METHOD:PUBLISH
BEGIN:VEVENT
DTSTAMP:20260421T070304Z
UID:176-939738@bethlehemlutheranwahoo.org
DTSTART:20270317T230000Z
DTEND:20270318T000000Z
CLASS:PUBLIC
CREATED:20260420T191730
DESCRIPTION:
LAST-MODIFIED:20260420T191730
LOCATION:
SUMMARY:MSM
URL;VALUE=URI:https://www.bethlehemlutheranwahoo.org/events/msm--176/2027-0
 3-17
END:VEVENT
END:VCALENDAR
