BEGIN:VCALENDAR
VERSION:2.0
PRODID:icalendar-ruby
CALSCALE:GREGORIAN
METHOD:PUBLISH
BEGIN:VEVENT
DTSTAMP:20260421T012644Z
UID:176-939735@bethlehemlutheranwahoo.org
DTSTART:20270225T000000Z
DTEND:20270225T010000Z
CLASS:PUBLIC
CREATED:20260420T191730
DESCRIPTION:
LAST-MODIFIED:20260420T191730
LOCATION:
SUMMARY:MSM
URL;VALUE=URI:https://www.bethlehemlutheranwahoo.org/events/msm--176/2027-0
 2-24
END:VEVENT
END:VCALENDAR
