BEGIN:VCALENDAR
VERSION:2.0
PRODID:icalendar-ruby
CALSCALE:GREGORIAN
METHOD:PUBLISH
BEGIN:VEVENT
DTSTAMP:20260420T232807Z
UID:176-939488@bethlehemlutheranwahoo.org
DTSTART:20270218T000000Z
DTEND:20270218T010000Z
CLASS:PUBLIC
CREATED:20260420T164234
DESCRIPTION:
LAST-MODIFIED:20260420T164234
LOCATION:
SUMMARY:MSM
URL;VALUE=URI:https://www.bethlehemlutheranwahoo.org/events/msm--176/2027-0
 2-17
END:VEVENT
END:VCALENDAR
