BEGIN:VCALENDAR
VERSION:2.0
PRODID:icalendar-ruby
CALSCALE:GREGORIAN
METHOD:PUBLISH
BEGIN:VEVENT
DTSTAMP:20260420T212650Z
UID:176-939241@bethlehemlutheranwahoo.org
DTSTART:20270211T000000Z
DTEND:20270211T010000Z
CLASS:PUBLIC
CREATED:20260420T140623
DESCRIPTION:
LAST-MODIFIED:20260420T140623
LOCATION:
SUMMARY:MSM
URL;VALUE=URI:https://www.bethlehemlutheranwahoo.org/events/msm--176/2027-0
 2-10
END:VEVENT
END:VCALENDAR
