BEGIN:VCALENDAR
VERSION:2.0
PRODID:icalendar-ruby
CALSCALE:GREGORIAN
METHOD:PUBLISH
BEGIN:VEVENT
DTSTAMP:20260420T194158Z
UID:176-939240@bethlehemlutheranwahoo.org
DTSTART:20270204T000000Z
DTEND:20270204T010000Z
CLASS:PUBLIC
CREATED:20260420T140623
DESCRIPTION:
LAST-MODIFIED:20260420T140623
LOCATION:
SUMMARY:MSM
URL;VALUE=URI:https://www.bethlehemlutheranwahoo.org/events/msm--176/2027-0
 2-03
END:VEVENT
END:VCALENDAR
