BEGIN:VCALENDAR
VERSION:2.0
PRODID:icalendar-ruby
CALSCALE:GREGORIAN
METHOD:PUBLISH
BEGIN:VEVENT
DTSTAMP:20260420T174953Z
UID:176-938993@bethlehemlutheranwahoo.org
DTSTART:20270128T000000Z
DTEND:20270128T010000Z
CLASS:PUBLIC
CREATED:20260420T113207
DESCRIPTION:
LAST-MODIFIED:20260420T113207
LOCATION:
SUMMARY:MSM
URL;VALUE=URI:https://www.bethlehemlutheranwahoo.org/events/msm--176/2027-0
 1-27
END:VEVENT
END:VCALENDAR
