BEGIN:VCALENDAR
VERSION:2.0
PRODID:icalendar-ruby
CALSCALE:GREGORIAN
METHOD:PUBLISH
BEGIN:VEVENT
DTSTAMP:20260420T162038Z
UID:176-938746@bethlehemlutheranwahoo.org
DTSTART:20270121T000000Z
DTEND:20270121T010000Z
CLASS:PUBLIC
CREATED:20260420T085804
DESCRIPTION:
LAST-MODIFIED:20260420T085804
LOCATION:
SUMMARY:MSM
URL;VALUE=URI:https://www.bethlehemlutheranwahoo.org/events/msm--176/2027-0
 1-20
END:VEVENT
END:VCALENDAR
