BEGIN:VCALENDAR
VERSION:2.0
PRODID:icalendar-ruby
CALSCALE:GREGORIAN
METHOD:PUBLISH
BEGIN:VEVENT
DTSTAMP:20260420T123822Z
UID:176-938498@bethlehemlutheranwahoo.org
DTSTART:20270107T000000Z
DTEND:20270107T010000Z
CLASS:PUBLIC
CREATED:20260420T062221
DESCRIPTION:
LAST-MODIFIED:20260420T062221
LOCATION:
SUMMARY:MSM
URL;VALUE=URI:https://www.bethlehemlutheranwahoo.org/events/msm--176/2027-0
 1-06
END:VEVENT
END:VCALENDAR
