BEGIN:VCALENDAR
VERSION:2.0
PRODID:icalendar-ruby
CALSCALE:GREGORIAN
METHOD:PUBLISH
BEGIN:VEVENT
DTSTAMP:20260420T090326Z
UID:176-938250@bethlehemlutheranwahoo.org
DTSTART:20261224T000000Z
DTEND:20261224T010000Z
CLASS:PUBLIC
CREATED:20260420T012253
DESCRIPTION:
LAST-MODIFIED:20260420T012253
LOCATION:
SUMMARY:MSM
URL;VALUE=URI:https://www.bethlehemlutheranwahoo.org/events/msm--176/2026-1
 2-23
END:VEVENT
END:VCALENDAR
