BEGIN:VCALENDAR
VERSION:2.0
PRODID:icalendar-ruby
CALSCALE:GREGORIAN
METHOD:PUBLISH
BEGIN:VEVENT
DTSTAMP:20260420T074515Z
UID:176-938249@bethlehemlutheranwahoo.org
DTSTART:20261217T000000Z
DTEND:20261217T010000Z
CLASS:PUBLIC
CREATED:20260420T012253
DESCRIPTION:
LAST-MODIFIED:20260420T012253
LOCATION:
SUMMARY:MSM
URL;VALUE=URI:https://www.bethlehemlutheranwahoo.org/events/msm--176/2026-1
 2-16
END:VEVENT
END:VCALENDAR
