BEGIN:VCALENDAR
VERSION:2.0
PRODID:icalendar-ruby
CALSCALE:GREGORIAN
METHOD:PUBLISH
BEGIN:VEVENT
DTSTAMP:20260420T055253Z
UID:176-938002@bethlehemlutheranwahoo.org
DTSTART:20261210T000000Z
DTEND:20261210T010000Z
CLASS:PUBLIC
CREATED:20260419T214600
DESCRIPTION:
LAST-MODIFIED:20260419T214600
LOCATION:
SUMMARY:MSM
URL;VALUE=URI:https://www.bethlehemlutheranwahoo.org/events/msm--176/2026-1
 2-09
END:VEVENT
END:VCALENDAR
