BEGIN:VCALENDAR
VERSION:2.0
PRODID:icalendar-ruby
CALSCALE:GREGORIAN
METHOD:PUBLISH
BEGIN:VEVENT
DTSTAMP:20260419T231813Z
UID:176-937752@bethlehemlutheranwahoo.org
DTSTART:20261112T000000Z
DTEND:20261112T010000Z
CLASS:PUBLIC
CREATED:20260419T180702
DESCRIPTION:
LAST-MODIFIED:20260419T180702
LOCATION:
SUMMARY:MSM
URL;VALUE=URI:https://www.bethlehemlutheranwahoo.org/events/msm--176/2026-1
 1-11
END:VEVENT
END:VCALENDAR
