BEGIN:VCALENDAR
VERSION:2.0
PRODID:icalendar-ruby
CALSCALE:GREGORIAN
METHOD:PUBLISH
BEGIN:VEVENT
DTSTAMP:20260419T214126Z
UID:176-937505@bethlehemlutheranwahoo.org
DTSTART:20261105T000000Z
DTEND:20261105T010000Z
CLASS:PUBLIC
CREATED:20260419T142409
DESCRIPTION:
LAST-MODIFIED:20260419T142409
LOCATION:
SUMMARY:MSM
URL;VALUE=URI:https://www.bethlehemlutheranwahoo.org/events/msm--176/2026-1
 1-04
END:VEVENT
END:VCALENDAR
