BEGIN:VCALENDAR
VERSION:2.0
PRODID:icalendar-ruby
CALSCALE:GREGORIAN
METHOD:PUBLISH
BEGIN:VEVENT
DTSTAMP:20260419T183800Z
UID:176-937258@bethlehemlutheranwahoo.org
DTSTART:20261021T230000Z
DTEND:20261022T000000Z
CLASS:PUBLIC
CREATED:20260419T104147
DESCRIPTION:
LAST-MODIFIED:20260419T104147
LOCATION:
SUMMARY:MSM
URL;VALUE=URI:https://www.bethlehemlutheranwahoo.org/events/msm--176/2026-1
 0-21
END:VEVENT
END:VCALENDAR
