BEGIN:VCALENDAR
VERSION:2.0
PRODID:icalendar-ruby
CALSCALE:GREGORIAN
METHOD:PUBLISH
BEGIN:VEVENT
DTSTAMP:20260419T152222Z
UID:176-937012@bethlehemlutheranwahoo.org
DTSTART:20261007T230000Z
DTEND:20261008T000000Z
CLASS:PUBLIC
CREATED:20260419T065930
DESCRIPTION:
LAST-MODIFIED:20260419T065930
LOCATION:
SUMMARY:MSM
URL;VALUE=URI:https://www.bethlehemlutheranwahoo.org/events/msm--176/2026-1
 0-07
END:VEVENT
END:VCALENDAR
